BEGIN:VCALENDAR
VERSION:2.0
PRODID:-//Parent Villages - ECPv6.15.20//NONSGML v1.0//EN
CALSCALE:GREGORIAN
METHOD:PUBLISH
X-ORIGINAL-URL:https://parentvillages.org
X-WR-CALDESC:Events for Parent Villages
REFRESH-INTERVAL;VALUE=DURATION:PT1H
X-Robots-Tag:noindex
X-PUBLISHED-TTL:PT1H
BEGIN:VTIMEZONE
TZID:America/New_York
BEGIN:DAYLIGHT
TZOFFSETFROM:-0500
TZOFFSETTO:-0400
TZNAME:EDT
DTSTART:20250309T070000
END:DAYLIGHT
BEGIN:STANDARD
TZOFFSETFROM:-0400
TZOFFSETTO:-0500
TZNAME:EST
DTSTART:20251102T060000
END:STANDARD
BEGIN:DAYLIGHT
TZOFFSETFROM:-0500
TZOFFSETTO:-0400
TZNAME:EDT
DTSTART:20260308T070000
END:DAYLIGHT
BEGIN:STANDARD
TZOFFSETFROM:-0400
TZOFFSETTO:-0500
TZNAME:EST
DTSTART:20261101T060000
END:STANDARD
BEGIN:DAYLIGHT
TZOFFSETFROM:-0500
TZOFFSETTO:-0400
TZNAME:EDT
DTSTART:20270314T070000
END:DAYLIGHT
BEGIN:STANDARD
TZOFFSETFROM:-0400
TZOFFSETTO:-0500
TZNAME:EST
DTSTART:20271107T060000
END:STANDARD
END:VTIMEZONE
BEGIN:VEVENT
DTSTART;TZID=America/New_York:20260418T100000
DTEND;TZID=America/New_York:20260418T130000
DTSTAMP:20260419T121447
CREATED:20260326T173741Z
LAST-MODIFIED:20260326T173741Z
UID:10001514-1776506400-1776517200@parentvillages.org
SUMMARY:8th Annual Education Matters Brunch
DESCRIPTION:✨ Register Today | April 18\, 2026 | 10:00 AM – 1:00 PM ✨\nJoin us for the 2026 Education Matters Celebration\, a brunch dedicated to honoring community members whose leadership\, service\, and commitment continue to make education matter. \nWe are proud to recognize this year’s Unsung Heroes individuals whose impact speaks volumes through their actions and dedication. \n📍 Twin Hills Country Club | Longmeadow\, MA \nDo you want to celebrate these amazing individuals? Scan the QR code on the flyer or click the image
URL:https://parentvillages.org/single-event/8th-annual-education-matters-brunch/
LOCATION:Twin Hills Country Club\, 700 Wolf Swamp Road\, Longmeadow\, MA\, 01106\, United States
ATTACH;FMTTYPE=image/png:https://parentvillages.org/wp-content/uploads/2026/03/Parent-Villages-Education-Matters-Brunch-2026_Save-The-DatesPromoFLYER-4-1-1-1.png
ORGANIZER;CN="Parent Villages":MAILTO:info@parentvillages.org
END:VEVENT
END:VCALENDAR